BEGIN:VCALENDAR
VERSION:2.0
PRODID:-//TreeClix - ECPv6.13.2.1//NONSGML v1.0//EN
CALSCALE:GREGORIAN
METHOD:PUBLISH
X-ORIGINAL-URL:https://treeclix.com/nl/
X-WR-CALDESC:Evenementen voor TreeClix
REFRESH-INTERVAL;VALUE=DURATION:PT1H
X-Robots-Tag:noindex
X-PUBLISHED-TTL:PT1H
BEGIN:VTIMEZONE
TZID:Europe/Amsterdam
BEGIN:DAYLIGHT
TZOFFSETFROM:+0100
TZOFFSETTO:+0200
TZNAME:CEST
DTSTART:20250330T010000
END:DAYLIGHT
BEGIN:STANDARD
TZOFFSETFROM:+0200
TZOFFSETTO:+0100
TZNAME:CET
DTSTART:20251026T010000
END:STANDARD
END:VTIMEZONE
BEGIN:VEVENT
DTSTART;TZID=Europe/Amsterdam:20250612T193000
DTEND;TZID=Europe/Amsterdam:20250612T213000
DTSTAMP:20260420T101853
CREATED:20250610T155208Z
LAST-MODIFIED:20250610T155541Z
UID:6494-1749756600-1749763800@treeclix.com
SUMMARY:KNHS Theorie Tour
DESCRIPTION:Wat zijn Feiten en wat zijn Fabels? Weet jij het? \n❓ “Het zadel ligt te strak bij de schouder\, dus het is te smal.” \n❓ “Een te breed zadel los je op met een dikke pad.” \n❓ “Een zadel mag geen beweging hebben aan de achterzijde.” \n👉 Wil jij je kennis over zadelpassen verdiepen en feiten van fabels leren onderscheiden? Schrijf je nu in! \nLocatie: Nationaal Hippisch Centrum Ermelo\nDatum en tijd: Donderdag 12 juni\, 19.30 – 21.30 uur\nEntree: €26\,35 voor leden | €30\,35 voor niet-leden (incl. consumptie)\n50 licentiepunten voor instructeurs
URL:https://treeclix.com/nl/event/knhs-theorie-tour/
CATEGORIES:Ruiters,Zadelpassers
END:VEVENT
BEGIN:VEVENT
DTSTART;TZID=Europe/Amsterdam:20250710T193000
DTEND;TZID=Europe/Amsterdam:20250710T213000
DTSTAMP:20260420T101853
CREATED:20250610T160602Z
LAST-MODIFIED:20250610T162513Z
UID:6518-1752175800-1752183000@treeclix.com
SUMMARY:TreeClix Webinar: Fitting with facts – how to use measurable data in saddle fitting
DESCRIPTION:📅 10 July | 🕢 19:30 (CET) | 📍 Online | 🌍 Language: English \n🔒 exclusive to saddle fitters \n\nMeasuring is knowing – but what do you actually do with your templates? \nThis webinar explores how measurable data can support your saddle fitting process. We’ll take a critical look at commonly used terms like “medium-wide” and talk about how to move from assumptions to actual numbers. \nTopics include:▪ who defines the measurements – you or the manufacturer?▪ do you decide on tree width\, or does the horse have a say?▪ why it can be helpful to open up a saddle and look inside▪ how panel design can affect tree fit – and why bare tree fitting doesn’t always give the full picture \nThis session is aimed at saddle fitters who want to reflect on their current methods and refine their approach using objective data. It’s not about giving one single answer\, but about asking better questions. \n📌 Participation is free\, but registration is required.
URL:https://treeclix.com/nl/event/treeclix-webinar-fitting-with-facts-how-to-use-measurable-data-in-saddle-fitting/
CATEGORIES:Zadelpassers
END:VEVENT
BEGIN:VEVENT
DTSTART;TZID=Europe/Amsterdam:20250930T093000
DTEND;TZID=Europe/Amsterdam:20250930T160000
DTSTAMP:20260420T101853
CREATED:20250610T155520Z
LAST-MODIFIED:20250610T162615Z
UID:6495-1759224600-1759248000@treeclix.com
SUMMARY:TreeClix Masterclass
DESCRIPTION:TreeClix Masterclass – Finetune je werk als zadelpasser \nEen ééndaagse masterclass voor zadelpassers die zich willen verdiepen in het gebruik van TreeClix in de praktijk. Geschikt voor wie net met TreeClix start\, maar ook waardevol voor wie al ervaring heeft. \nTijdens deze dag combineren we theorie en praktijk:✔️ Ontdek hoe boombreedte écht het verschil maakt in pasvorm voor ruiter én paard✔️ Leer wat je met TreeClix wél kunt doen — en wat je beter niet kunt proberen✔️ Tips & tricks voor het openen en sluiten van zadels✔️ Inzicht in waarom het openen van een zadel essentieel is voor goed zadelpassen \n🔧 Hands-on\, kleinschalig en praktisch toepasbaar.📦 Maximaal 9 deelnemers\, minimaal 6 — vol = vol! \n📍 Hippisch Expertise Centrum\, Pastoor Roesweg 45. 5398HZ Maren-Kessel🕤 Tijd: 09:30 – 16:00 uur💶 Prijs: €295\,- excl. btw (inclusief lunch)\n👉 Inschrijven: via de webshop\nGeen account? Stuur ons een email: info@treeclix.com
URL:https://treeclix.com/nl/event/treeclix-masterclass/
CATEGORIES:Zadelpassers
ATTACH;FMTTYPE=image/jpeg:https://treeclix.com/wp-content/uploads/2025/06/TreeClix-Shop-7-e1749568822732.jpg
END:VEVENT
BEGIN:VEVENT
DTSTART;TZID=Europe/Amsterdam:20251111T193000
DTEND;TZID=Europe/Amsterdam:20251111T203000
DTSTAMP:20260420T101853
CREATED:20251107T110736Z
LAST-MODIFIED:20251107T135348Z
UID:6787-1762889400-1762893000@treeclix.com
SUMMARY:Horses Webinar: Wat iedereen moet weten over zadelpassen
DESCRIPTION:In het webinar 𝐙𝐚𝐝𝐞𝐥𝐩𝐚𝐬𝐬𝐞𝐧: 𝐰𝐚𝐭 𝐢𝐞𝐝𝐞𝐫𝐞𝐞𝐧 𝐦𝐨𝐞𝐭 𝐰𝐞𝐭𝐞𝐧\, georganiseerd door 𝐇𝐨𝐫𝐬𝐞𝐬\, neemt Jolanda van der Leeden\, Master Saddle Fitter\, veelgebruikte aannames over zadelpassen onder de loep. \nEen goed passend zadel is een must is\, dat weet (hopelijk) iedereen in onze sector. Daarvoor bel je een zadelpasser\, die (in het gunstigste geval) regelmatig langskomt om te controleren en zo nodig bij te sturen. Maar waar vind je de beste zadelpasser? Misschien krijg je zo veel uiteenlopende informatie van bijvoorbeeld stalgenoten\, dierenarts of fysiotherapeut dat je door de bomen het bos niet meer ziet. Zou het niet goed zijn om zelf wat meer te weten over zadels en zadelpassen? \nOnder de loep \nIn het gratis en live webinar ‘Zadelpassen: wat iedereen moet weten’ gaan we daarmee aan de slag. Jolanda van der Leeden\, Master Saddle Fitting Consultant en SMS Master Saddle Fitter\, leidt zadelpassers op en deelt in dit webinar haar kennis. Ze neemt veelgebruikte aannames over zadelpassen onder de loep en legt uit op welke manier de ontwikkeling van het paard invloed heeft op de pasvorm. Tijdens het webinar is er gelegenheid tot het stellen van vragen. \nSchrijf je hier in!
URL:https://treeclix.com/nl/event/horses-webinar-wat-iedereen-moet-weten-over-zadelpassen/
CATEGORIES:Ruiters,Zadelpassers
ATTACH;FMTTYPE=image/jpeg:https://treeclix.com/wp-content/uploads/2025/11/20251106_2.jpg
END:VEVENT
END:VCALENDAR