BEGIN:VCALENDAR
VERSION:2.0
PRODID:-//TreeClix - ECPv6.13.2.1//NONSGML v1.0//EN
CALSCALE:GREGORIAN
METHOD:PUBLISH
X-WR-CALNAME:TreeClix
X-ORIGINAL-URL:https://treeclix.com
X-WR-CALDESC:Events for TreeClix
REFRESH-INTERVAL;VALUE=DURATION:PT1H
X-Robots-Tag:noindex
X-PUBLISHED-TTL:PT1H
BEGIN:VTIMEZONE
TZID:Europe/Amsterdam
BEGIN:DAYLIGHT
TZOFFSETFROM:+0100
TZOFFSETTO:+0200
TZNAME:CEST
DTSTART:20240331T010000
END:DAYLIGHT
BEGIN:STANDARD
TZOFFSETFROM:+0200
TZOFFSETTO:+0100
TZNAME:CET
DTSTART:20241027T010000
END:STANDARD
BEGIN:DAYLIGHT
TZOFFSETFROM:+0100
TZOFFSETTO:+0200
TZNAME:CEST
DTSTART:20250330T010000
END:DAYLIGHT
BEGIN:STANDARD
TZOFFSETFROM:+0200
TZOFFSETTO:+0100
TZNAME:CET
DTSTART:20251026T010000
END:STANDARD
END:VTIMEZONE
BEGIN:VEVENT
DTSTART;TZID=Europe/Amsterdam:20250211T193000
DTEND;TZID=Europe/Amsterdam:20250211T213000
DTSTAMP:20260421T144817
CREATED:20250115T121125Z
LAST-MODIFIED:20250115T121240Z
UID:5665-1739302200-1739309400@treeclix.com
SUMMARY:Webinar: Solving saddle fit challenges: addressing lower cervical problems
DESCRIPTION:Are you a saddle fitter? Join us in our webinar and discover how improper movement leads to lower cervical issues in horses and how you\, as a saddle fitter\, can help solve these challenges. \nFeaturing Rosalie van Eck (equine physiotherapist and osteopath) on biomechanics and Jolanda (MSFC and SMS master saddle fitter) on saddle adjustments for correct movement.
URL:https://treeclix.com/event/webinar-solving-saddle-fit-challenges-addressing-lower-cervical-problems/
ORGANIZER;CN="TreeClix":MAILTO:info@treeclix.com
END:VEVENT
BEGIN:VEVENT
DTSTART;TZID=Europe/Amsterdam:20240826T093000
DTEND;TZID=Europe/Amsterdam:20240826T163000
DTSTAMP:20260421T144817
CREATED:20240825T193659Z
LAST-MODIFIED:20240825T193723Z
UID:5095-1724664600-1724689800@treeclix.com
SUMMARY:TreeClix Masterclass Netherlands – 26 aug\, 2024
DESCRIPTION:Maandag 26 augustus organiseren we weer een TreeClix Masterclass in Nederland. \nWat staat er op de agenda? \n\nOntdek hoe kleine aanpassingen in de zadel pasvorm een aanzienlijke invloed kunnen hebben op de ligging van een zadel.\nBring your own! Weet jij een leuke combinatie bij wie je TreeClix eens wil testen? Meld deze bij ons aan. Als je combinatie mee rijdt en tevreden is met het TreeClix systeem\, dan krijgen ze deze cadeau als dank voor hun aanwezigheid!\nGa zelf actief aan de slag met het installeren en aanpassen van zadels met TreeClix.\nGebruik TreeClix op verschillende zadelmerken en paarden.\nErvaar de impact van een verandering van 5 mm in boommaat op de beweging van een paard.\nEn nog veel meer!\n\n\n\n\n\nOok als je al een keer bij een TreeClix masterclass bent geweest\, beloven we dat dit weer een hele leerzame dag zal worden! \nSchrijf je nu in! \nLocatie: Manege de Schutskooi\, Laar 6\, 5258 TJ\, Berlicum \nTijd: Maandag 26 augustus 2024 – 9.30u – 17.00u \nKosten: €275\,- excl. btw \nInbegrepen: Een heerlijke lunch\, koffie\, thee en volop snacks. \nTaal: Nederlands \nWie zou moeten deelnemen:\n– Zadelpassers die geïnteresseerd zijn in het toepassen van TreeClix tijdens hun werk\n– TreeClix dealers die hun kennis en vaardigheden willen uitbreiden\n– Iedereen die nieuwsgierig is naar de nieuwste innovaties in zadelpastechnologie
URL:https://treeclix.com/event/treeclix-masterclass-netherlands-26-aug-2024/
ORGANIZER;CN="TreeClix":MAILTO:info@treeclix.com
END:VEVENT
END:VCALENDAR