BEGIN:VCALENDAR
VERSION:2.0
PRODID:-//TreeClix - ECPv6.13.2.1//NONSGML v1.0//EN
CALSCALE:GREGORIAN
METHOD:PUBLISH
X-WR-CALNAME:TreeClix
X-ORIGINAL-URL:https://treeclix.com
X-WR-CALDESC:Events for TreeClix
REFRESH-INTERVAL;VALUE=DURATION:PT1H
X-Robots-Tag:noindex
X-PUBLISHED-TTL:PT1H
BEGIN:VTIMEZONE
TZID:Europe/Amsterdam
BEGIN:DAYLIGHT
TZOFFSETFROM:+0100
TZOFFSETTO:+0200
TZNAME:CEST
DTSTART:20260329T010000
END:DAYLIGHT
BEGIN:STANDARD
TZOFFSETFROM:+0200
TZOFFSETTO:+0100
TZNAME:CET
DTSTART:20261025T010000
END:STANDARD
END:VTIMEZONE
BEGIN:VEVENT
DTSTART;TZID=Europe/Amsterdam:20260203T193000
DTEND;TZID=Europe/Amsterdam:20260203T210000
DTSTAMP:20260420T153927
CREATED:20260119T140609Z
LAST-MODIFIED:20260119T143315Z
UID:6936-1770147000-1770152400@treeclix.com
SUMMARY:Webinar Atrophy and Saddle Fit
DESCRIPTION:In this webinar\, we look at atrophy around the withers and shoulder area\, with a practical focus on fitting saddles on horses showing (light) atrophy. We explore how saddle design\, balance\, stability\, and load distribution can influence tissue over time – and how your fitting approach can be adapted to avoid adding to the problem. \n📌 Participation is free\, but registration is required. There will be NO replay available\, so be there or miss out…\nSign up here! \n📅 3rd february | 🕢 19:30 (CET) | 📍 Online | 🌍 Language: English |🔒 exclusive to saddle fitters
URL:https://treeclix.com/event/webinar-atrophy-and-saddle-fit/
ORGANIZER;CN="TreeClix":MAILTO:info@treeclix.com
END:VEVENT
BEGIN:VEVENT
DTSTART;TZID=Europe/Amsterdam:20260212T090000
DTEND;TZID=Europe/Amsterdam:20260212T120000
DTSTAMP:20260420T153927
CREATED:20251015T150117Z
LAST-MODIFIED:20251015T150231Z
UID:6770-1770886800-1770897600@treeclix.com
SUMMARY:TreeClix Masterclass - Exclusively for TreeClix Specialists
DESCRIPTION:As part of the TreeClix Specialist community\, we regularly organize advanced sessions for certified TSP graduates.On February 12\, 2026\, the next online masterclass will take place – exclusively for those who have completed the TreeClix Specialist Program. \nDuring this interactive morning\, participants will discuss current topics and real-world cases from their daily work. It’s an opportunity to exchange experiences\, gain new insights\, and continue learning from one another as professionals. \nThese sessions reflect what the TreeClix Specialist Program stands for: not just a course\, but an ongoing journey of learning\, sharing\, and professional growth within the field.
URL:https://treeclix.com/event/6770/
END:VEVENT
BEGIN:VEVENT
DTSTART;VALUE=DATE:20260323
DTEND;VALUE=DATE:20260325
DTSTAMP:20260420T153927
CREATED:20260213T213900Z
LAST-MODIFIED:20260213T214202Z
UID:7040-1774224000-1774396799@treeclix.com
SUMMARY:TreeClix Masterclass | Bordeaux\, France
DESCRIPTION:TreeClix Masterclass – Saddle Adjustment & Equine Biomechanics (2-Day Training) with Ergonomie Equestre \nJoin this 2-day practical masterclass focused on saddle adjustment and its interaction with the horse’s locomotion and posture\, using the Treeclix system for precise tree width adjustment. \nYou will work hands-on to understand how saddle fit influences movement\, posture\, and comfort of the horse\, and how precise tree adjustment can support optimal function. \nInstructorJolanda Van Der Leeden – Founder of Treeclix and Empire dressage saddles\, certified saddle fitter (MSFC & SMS since 2011) \nFrench translation availableLive translation by Eugénie Cottereau (Ergonomie Equestre) \nRequirementsProfessional saddler or saddle fitter. \nDate & TimeMonday 23 & Tuesday 24 March 202609:00 – 17:00 \nLocationUCPA St Médard en Jalles (Bordeaux\, France)Restaurant available on site. \nPrice€550 incl. VATEarly bird €500 incl. VAT (before 28 Feb 2026)Use code earleex in the “discount code” field during payment. \nHow to registerClick here to register via Ergonomie Equestre websiteFor funding options (OPCO: VIVEA\, FAFCEA\, Opcommerce\, etc.)\, contact:contact@ergonomie-equestre.fr
URL:https://treeclix.com/event/treeclix-masterclass-bordeaux-france/
ATTACH;FMTTYPE=image/jpeg:https://treeclix.com/wp-content/uploads/2026/02/Treeclix-specialist-Program-1.jpg
END:VEVENT
BEGIN:VEVENT
DTSTART;TZID=Europe/Amsterdam:20260420T093000
DTEND;TZID=Europe/Amsterdam:20260420T163000
DTSTAMP:20260420T153927
CREATED:20260420T101436Z
LAST-MODIFIED:20260420T101436Z
UID:7139-1776677400-1776702600@treeclix.com
SUMMARY:TreeClix Masterclass Billund\, Denmark
DESCRIPTION:Join us for a 1-day TreeClix masterclass in Billund\, Denmark\, hosted together with Kit Hansen from Sadelspecialisten. \nWe’ll start the day with a short theoretical introduction in the morning\, before moving on to the practical part. \nDuring the practical sessions\, we will: \n\nshow you how to build TreeClix into saddles\nexplain how to make small adjustments when needed\, so the bases and wedges fit properly into the pockets and onto the tree points\nwork with horse-rider combinations\nexplore how small adjustments in tree width influence saddle fit and the horse’s movement\n\nThis masterclass focuses on practical learning in a safe and open environment. Even if you have no experience with TreeClix yet\, you are very welcome. We aim to give you tools to make saddle fitting easier and support your customers even better. \nPractical informationBring your own lunch. There is no fee for the accommodation or arena. \nLocationBillund SportsrideklubLøvlundvej 47190 Billund\, Denmark \nTime9:30 – 16:30 \nWant to join?Sign up via info@treeclix.com
URL:https://treeclix.com/event/treeclix-masterclass-billund-denmark/
LOCATION:Billund Sportsrideklub\, Løvlundvej 4\, Billund\, 7190\, Denmark
END:VEVENT
BEGIN:VEVENT
DTSTART;TZID=Europe/Amsterdam:20260430T193000
DTEND;TZID=Europe/Amsterdam:20260430T203000
DTSTAMP:20260420T153927
CREATED:20260409T161243Z
LAST-MODIFIED:20260409T161511Z
UID:7081-1777577400-1777581000@treeclix.com
SUMMARY:Webinar: Does TreeClix increase pressure under the tree points? A scientific perspective
DESCRIPTION:Does TreeClix increase pressure under the tree points?\nIt’s a question that comes up a lot. That’s exactly why this study was set up.\nPressure measurements were carried out by Mark Fisher\, Diana Fisher and Russell MacKechnie-Guire from Centaur Biomechanics.\n\n\nIn this webinar\, we’ll take you through:• how saddle pressure is measured• how the study was set up• the effect of TreeClix on pressure measurements\n• how to interpret pressure data in practice\n\n\nRussell MacKechnie-Guire will be there to give additional context on the study from a scientific perspective and answer your questions.\n\n\nNo opinions. Just data.  Save your spot via this link
URL:https://treeclix.com/event/webinar-does-treeclix-increase-pressure-under-the-tree-points-a-scientific-perspective/
ATTACH;FMTTYPE=image/jpeg:https://treeclix.com/wp-content/uploads/2026/04/Treeclix-specialist-Program-2.jpg
END:VEVENT
BEGIN:VEVENT
DTSTART;VALUE=DATE:20260511
DTEND;VALUE=DATE:20260522
DTSTAMP:20260420T153927
CREATED:20260128T135912Z
LAST-MODIFIED:20260213T214449Z
UID:6981-1778457600-1779407999@treeclix.com
SUMMARY:Northern Europe Tour
DESCRIPTION:Denmark · Sweden · Norway · Northern Germany \nWe’re heading north! During our Northern Europe Tour\, Jolanda is on the road to visit saddle fitters and professionals across Denmark\, Sweden\, Norway\, and Northern Germany. \nCurious about TreeClix and how it works in real-life situations? Jolanda can visit you on location\, explain the system in the field\, and show how it can support your daily work. \nInterested?\nSend us a message and we’ll get in touch to see if we can plan a visit during the tour.\nPlease enable JavaScript in your browser to complete this form.Please enable JavaScript in your browser to complete this form.Name *FirstLast		\n			message  Leave\n			\n		\n		Email *Company name  *Location (City and Country) *Leave a message  *Submit
URL:https://treeclix.com/event/northern-europe-tour/
ATTACH;FMTTYPE=image/jpeg:https://treeclix.com/wp-content/uploads/2026/01/20251229_2.jpg
END:VEVENT
BEGIN:VEVENT
DTSTART;TZID=Europe/Amsterdam:20260512T100000
DTEND;TZID=Europe/Amsterdam:20260512T163000
DTSTAMP:20260420T153927
CREATED:20260420T102805Z
LAST-MODIFIED:20260420T102805Z
UID:7144-1778580000-1778603400@treeclix.com
SUMMARY:TreeClix Masterclass Toreby\, Denmark
DESCRIPTION:Join us for a 1-day TreeClix masterclass in Toreby\, Denmark\, hosted together with Zita Stenholt from Huset Stenholt. \nDuring this masterclass\, we’ll combine a short theoretical introduction with a strong focus on practical work. \nYou can expect: \n\nbuilding TreeClix into saddles\nlearning how to make small\, effective adjustments\nworking with horse-rider combinations\ngaining insight into how tree width adjustments influence saddle fit and movement\n\nThis day is all about practical learning in a safe and open environment. Even if you are completely new to TreeClix\, you are very welcome. \nMore details (exact location\, timing\, and practical info) will follow soon.\nWant to be the first to know more? Send us an e-mail info@treeclix.com and we’ll send you an e-mail as soon as we know more!
URL:https://treeclix.com/event/treeclix-masterclass-toreby-denmark/
END:VEVENT
BEGIN:VEVENT
DTSTART;TZID=Europe/Amsterdam:20260513T090000
DTEND;TZID=Europe/Amsterdam:20260513T160000
DTSTAMP:20260420T153927
CREATED:20260420T095823Z
LAST-MODIFIED:20260420T095823Z
UID:7132-1778662800-1778688000@treeclix.com
SUMMARY:TreeClix Masterclass Löddekopinge\, Sweden
DESCRIPTION:Join us for a 1-day TreeClix masterclass in Löddeköpinge\, Sweden\, hosted together with Monika Olsson from MWO Equilibrium. \nWe’ll start the day with a short theoretical introduction in the morning\, before moving on to the practical part. \nDuring the practical sessions\, we will: \n\nshow you how to build TreeClix into saddles\nexplain how to make small adjustments when needed\, so the bases and wedges fit properly into the pockets and onto the tree points\nwork with horse-rider combinations in the afternoon\nexplore how small adjustments in tree width can influence saddle fit and the horse’s movement\n\nThis masterclass is all about practical learning in a safe and open environment. Even if you know nothing about TreeClix yet\, you are very welcome. We would love to show you how TreeClix can make saddle fitting easier and help you support your customers even better. \nPractical informationBring your own lunch. Jolanda/TreeClix does not charge a fee for the masterclass\, but there is a small contribution required to cover the rent of the arena and café. \nLocationGrand Prix-vägen 92246 50 Löddeköpinge\, Sweden \nTime9:00 – 16:00 \nWant to join?Send us an email (info@treeclix.com) or contact Monika at +46 70 684 66 02.
URL:https://treeclix.com/event/treeclix-masterclass-loddekopinge-sweden/
LOCATION:Dagstorpsortens Ryttarförening\, Grand Prix vägen 92\, Löddeköpinge\, 246 50\, Sweden
END:VEVENT
BEGIN:VEVENT
DTSTART;TZID=Europe/Amsterdam:20260519T093000
DTEND;TZID=Europe/Amsterdam:20260519T160000
DTSTAMP:20260420T153927
CREATED:20260420T100930Z
LAST-MODIFIED:20260420T101013Z
UID:7135-1779183000-1779206400@treeclix.com
SUMMARY:TreeClix Masterclass Tidaholm\, Sweden
DESCRIPTION:Join us for a 1-day TreeClix masterclass in Tidaholm\, Sweden\, hosted together with Christina Allansdotter from EQ-Unique Sadelmakeri. \nWe’ll start the day with a short theoretical introduction in the morning\, before moving on to the practical part. \nDuring the practical sessions\, we will: \n\nshow you how to build TreeClix into saddles\nexplain how to make small adjustments when needed\, so the bases and wedges fit properly into the pockets and onto the tree points\nwork with horse-rider combinations in the afternoon\nexplore how small adjustments in tree width influence saddle fit and the horse’s movement\n\nThis masterclass focuses on practical learning in a safe and open environment. Even if you have no experience with TreeClix yet\, you are very welcome. We aim to give you tools to make saddle fitting easier and to support your customers even better. \nPractical informationBring your own lunch. Jolanda/TreeClix does not charge a fee for the masterclass\, but there is a small contribution required to cover the rent of the accommodation. \nLocationTidaholmsbygdens Hästklubb (TBHK)Kvarnängen Ridhuset\, 522 94 Tidaholm\, Zweden \nTime9:30 – 16:00 \nWant to join?Send an email to info@treeclix.com or call +46 707 400 390 (Christina)
URL:https://treeclix.com/event/treeclix-masterclass-tidaholm-sweden/
LOCATION:Tidaholmsbygdens Hästklubb\, Kvarnängen Ridhuset\, Tidaholm\, 522 94\, Sweden
END:VEVENT
BEGIN:VEVENT
DTSTART;TZID=Europe/Amsterdam:20260521T093000
DTEND;TZID=Europe/Amsterdam:20260521T160000
DTSTAMP:20260420T153927
CREATED:20260420T112754Z
LAST-MODIFIED:20260420T112754Z
UID:7146-1779355800-1779379200@treeclix.com
SUMMARY:TreeClix Masterclass Billund\, Denmark
DESCRIPTION:Join us for a 1-day TreeClix masterclass in Billund\, Denmark\, hosted together with Kit Hansen from Sadelspecialisten. \nWe’ll start the day with a short theoretical introduction in the morning\, before moving on to the practical part. \nDuring the practical sessions\, we will: \n\nshow you how to build TreeClix into saddles\nexplain how to make small adjustments when needed\, so the bases and wedges fit properly into the pockets and onto the tree points\nwork with horse-rider combinations\nexplore how small adjustments in tree width influence saddle fit and the horse’s movement\n\nThis masterclass focuses on practical learning in a safe and open environment. Even if you have no experience with TreeClix yet\, you are very welcome. We aim to give you tools to make saddle fitting easier and support your customers even better. \nPractical informationBring your own lunch. \nLocationBillund SportsrideklubLøvlundvej 47190 Billund\, Denmark \nTime9:30 – 16:30 \nWant to join?Sign up via info@treeclix.com
URL:https://treeclix.com/event/treeclix-masterclass-billund-denmark-2/
LOCATION:Billund Sportsrideklub\, Løvlundvej 4\, Billund\, 7190\, Denmark
END:VEVENT
END:VCALENDAR